BEGIN:VCALENDAR
VERSION:2.0
PRODID:-//Jurapark - ECPv6.6.4.2//NONSGML v1.0//EN
CALSCALE:GREGORIAN
METHOD:PUBLISH
X-WR-CALNAME:Jurapark
X-ORIGINAL-URL:https://jurapark.pl
X-WR-CALDESC:Events for Jurapark
REFRESH-INTERVAL;VALUE=DURATION:PT1H
X-Robots-Tag:noindex
X-PUBLISHED-TTL:PT1H
BEGIN:VTIMEZONE
TZID:Europe/Warsaw
BEGIN:DAYLIGHT
TZOFFSETFROM:+0100
TZOFFSETTO:+0200
TZNAME:CEST
DTSTART:20240331T010000
END:DAYLIGHT
BEGIN:STANDARD
TZOFFSETFROM:+0200
TZOFFSETTO:+0100
TZNAME:CET
DTSTART:20241027T010000
END:STANDARD
END:VTIMEZONE
BEGIN:VEVENT
DTSTART;VALUE=DATE:20240518
DTEND;VALUE=DATE:20240519
DTSTAMP:20260421T010521
CREATED:20240419T155903Z
LAST-MODIFIED:20240419T155903Z
UID:1178-1715990400-1716076799@jurapark.pl
SUMMARY:Noc Muzeów w JuraParku Solec
DESCRIPTION:Przeżyj niezapomnianą Noc Muzeów w JuraParku Solec\, a dokładnie w Muzeum Ziemi im. Karola Sabatha! Dowiesz się\, jak wyglądało życie na ziemi miliony  lat temu\, obejrzysz jedną z największych kolekcji skamieniałości w Polsce czy staniesz oko w oko z mamutem.
URL:https://jurapark.pl/event/noc-muzeow-w-juraparku-solec/
LOCATION:Solec Kujawski
ATTACH;FMTTYPE=image/jpeg:https://jurapark.pl/wp-content/uploads/2024/04/JuraPark-1.05-64-scaled-1.jpg
END:VEVENT
END:VCALENDAR