BEGIN:VCALENDAR
VERSION:2.0
PRODID:-//Jurapark - ECPv6.6.4.2//NONSGML v1.0//EN
CALSCALE:GREGORIAN
METHOD:PUBLISH
X-WR-CALNAME:Jurapark
X-ORIGINAL-URL:https://jurapark.pl
X-WR-CALDESC:Events for Jurapark
REFRESH-INTERVAL;VALUE=DURATION:PT1H
X-Robots-Tag:noindex
X-PUBLISHED-TTL:PT1H
BEGIN:VTIMEZONE
TZID:Europe/Warsaw
BEGIN:DAYLIGHT
TZOFFSETFROM:+0100
TZOFFSETTO:+0200
TZNAME:CEST
DTSTART:20240331T010000
END:DAYLIGHT
BEGIN:STANDARD
TZOFFSETFROM:+0200
TZOFFSETTO:+0100
TZNAME:CET
DTSTART:20241027T010000
END:STANDARD
END:VTIMEZONE
BEGIN:VEVENT
DTSTART;VALUE=DATE:20240524
DTEND;VALUE=DATE:20240527
DTSTAMP:20260421T005311
CREATED:20240419T160313Z
LAST-MODIFIED:20240419T160357Z
UID:1184-1716508800-1716767999@jurapark.pl
SUMMARY:Piknik Rodzinny Camper Team w Bałtowie
DESCRIPTION:Podróżujesz camperem? Jeśli tak\, koniecznie odwiedź Bałtów i weź udział w Rodzinnym pikniku Camper Team! Zapisy na wydarzenie trwają. Nie zwlekaj zapisz się już teraz 🙂
URL:https://jurapark.pl/event/piknik-rodzinny-camper-team/
LOCATION:Bałtów
ATTACH;FMTTYPE=image/webp:https://jurapark.pl/wp-content/uploads/2024/04/Piknik-Rodzinny-CamperTeam-scaled.webp
END:VEVENT
END:VCALENDAR