BEGIN:VCALENDAR
VERSION:2.0
PRODID:-//Jurapark - ECPv6.6.4.2//NONSGML v1.0//EN
CALSCALE:GREGORIAN
METHOD:PUBLISH
X-ORIGINAL-URL:https://jurapark.pl
X-WR-CALDESC:Events for Jurapark
REFRESH-INTERVAL;VALUE=DURATION:PT1H
X-Robots-Tag:noindex
X-PUBLISHED-TTL:PT1H
BEGIN:VTIMEZONE
TZID:Europe/Warsaw
BEGIN:DAYLIGHT
TZOFFSETFROM:+0100
TZOFFSETTO:+0200
TZNAME:CEST
DTSTART:20240331T010000
END:DAYLIGHT
BEGIN:STANDARD
TZOFFSETFROM:+0200
TZOFFSETTO:+0100
TZNAME:CET
DTSTART:20241027T010000
END:STANDARD
END:VTIMEZONE
BEGIN:VEVENT
DTSTART;VALUE=DATE:20240815
DTEND;VALUE=DATE:20240819
DTSTAMP:20260420T194828
CREATED:20240804T184430Z
LAST-MODIFIED:20240804T184430Z
UID:1976-1723680000-1724025599@jurapark.pl
SUMMARY:Weekend Odkrywców w JuraParku Solec
DESCRIPTION:Przed nami długi\, wakacyjny weekend! Od 15 do 18 sierpnia zapraszamy do JuraParku Solec– to idealny czas by spędzić rodzinny czas pełen przygód i odkrywania. Czeka na Was wiele atrakcji: \n\nGry i zabawy z nagrodami: strzelanie z łuku\, rzut do celu\, gra Ringo\nPyszności z grilla\nLekcje o prehistorii w Centrum Odkrywania Świata\nPokazy baniek mydlanych i malowanie twarzy\nKaruzele\, zjeżdżalnie i inne atrakcje w Parku Zabaw\nPolskie zamki w Polsce w Miniaturze\nDinozaury naturalnej wielkości na naszej ścieżce dydaktycznej\nPyszne lody\, gofry i inne słodkości\n\nJuż teraz zaplanujcie podróż do JuraParku Solec – Soluś już czeka na to\, żeby pokazać Wam niezwykły świat dinozaurów!
URL:https://jurapark.pl/event/weekend-odkrywcow-w-juraparku-solec/
LOCATION:Solec Kujawski
ATTACH;FMTTYPE=image/webp:https://jurapark.pl/wp-content/uploads/2024/08/weekend-odktywcow.webp
END:VEVENT
END:VCALENDAR