BEGIN:VCALENDAR
VERSION:2.0
PRODID:-//Jurapark - ECPv6.6.4.2//NONSGML v1.0//EN
CALSCALE:GREGORIAN
METHOD:PUBLISH
X-ORIGINAL-URL:https://jurapark.pl
X-WR-CALDESC:Events for Jurapark
REFRESH-INTERVAL;VALUE=DURATION:PT1H
X-Robots-Tag:noindex
X-PUBLISHED-TTL:PT1H
BEGIN:VTIMEZONE
TZID:Europe/Warsaw
BEGIN:DAYLIGHT
TZOFFSETFROM:+0100
TZOFFSETTO:+0200
TZNAME:CEST
DTSTART:20240331T010000
END:DAYLIGHT
BEGIN:STANDARD
TZOFFSETFROM:+0200
TZOFFSETTO:+0100
TZNAME:CET
DTSTART:20241027T010000
END:STANDARD
END:VTIMEZONE
BEGIN:VEVENT
DTSTART;VALUE=DATE:20240530
DTEND;VALUE=DATE:20240603
DTSTAMP:20260420T214129
CREATED:20240418T183900Z
LAST-MODIFIED:20240524T142442Z
UID:1048-1717027200-1717372799@jurapark.pl
SUMMARY:Dzień Dziecka Bałtow - Solec Kujawski - Krasiejów
DESCRIPTION:Dzień Dziecka to tak naprawdę święto każdego z nas! Nie tylko pierwszego dnia czerwca\, ale przez cały długi weekend będziemy mieli okazję do wspólnego świętowania! Zapraszamy do naszych JuraParków w ten wyjątkowy czas.
URL:https://jurapark.pl/event/dzien-dziecka/
LOCATION:Bałtów\, Solec Kujawski\, Krasiejów
ATTACH;FMTTYPE=image/jpeg:https://jurapark.pl/wp-content/uploads/2024/04/Majowka-9.jpg
END:VEVENT
BEGIN:VEVENT
DTSTART;VALUE=DATE:20240531
DTEND;VALUE=DATE:20240603
DTSTAMP:20260420T214129
CREATED:20240419T160704Z
LAST-MODIFIED:20240419T160715Z
UID:1195-1717113600-1717372799@jurapark.pl
SUMMARY:Jurassic Warriors 2024 w Bałtowie
DESCRIPTION:
URL:https://jurapark.pl/event/jurassic-warriors-2024-w-baltowie/
LOCATION:Bałtów
ATTACH;FMTTYPE=image/webp:https://jurapark.pl/wp-content/uploads/2024/04/Jurassic-warriors.jpg.webp
END:VEVENT
BEGIN:VEVENT
DTSTART;VALUE=DATE:20240614
DTEND;VALUE=DATE:20240617
DTSTAMP:20260420T214129
CREATED:20240524T133521Z
LAST-MODIFIED:20240524T141918Z
UID:1771-1718323200-1718582399@jurapark.pl
SUMMARY:Zlot Pojazdów Amerykańskich - Bałtów
DESCRIPTION:Jesteś miłośnikiem zabytkowych cadillaków? A może zastanawiasz się nad zakupem amerykańskiego\, kultowego auta? To wydarzenie dla Ciebie — tu możesz zobaczyć największe światowe perełki. Bądź z nami tego lata w Bałtowie.
URL:https://jurapark.pl/event/zlot-pojazdow-amerykanskich/
LOCATION:Bałtów
END:VEVENT
BEGIN:VEVENT
DTSTART;VALUE=DATE:20240628
DTEND;VALUE=DATE:20240630
DTSTAMP:20260420T214129
CREATED:20240524T140244Z
LAST-MODIFIED:20240524T140337Z
UID:1785-1719532800-1719705599@jurapark.pl
SUMMARY:ORW Festiwal Bałtów
DESCRIPTION:Rozpocznij wakacje w muzycznym klimacie — ORW Festiwal 2024. To 2 dni muzycznych wrażeń z hip-hopowym i klubowym brzmieniem. Na scenie pojawią się największe gwiazdy polskiego rapu oraz zagraniczni i polscy DJ.
URL:https://jurapark.pl/event/orw-festiwal-baltow/
LOCATION:Bałtów
ATTACH;FMTTYPE=image/png:https://jurapark.pl/wp-content/uploads/2024/05/orw_2024_640x420.png
END:VEVENT
END:VCALENDAR